BEGIN:VCALENDAR
VERSION:2.0
PRODID:-// - ECPv5.7.0//NONSGML v1.0//EN
CALSCALE:GREGORIAN
METHOD:PUBLISH
X-ORIGINAL-URL:https://parkschloesschen-brandis.de
X-WR-CALDESC:Veranstaltungen für 
BEGIN:VTIMEZONE
TZID:Europe/Berlin
BEGIN:DAYLIGHT
TZOFFSETFROM:+0100
TZOFFSETTO:+0200
TZNAME:CEST
DTSTART:20230326T010000
END:DAYLIGHT
BEGIN:STANDARD
TZOFFSETFROM:+0200
TZOFFSETTO:+0100
TZNAME:CET
DTSTART:20231029T010000
END:STANDARD
END:VTIMEZONE
BEGIN:VEVENT
DTSTART;TZID=Europe/Berlin:20230118T093000
DTEND;TZID=Europe/Berlin:20230118T103000
DTSTAMP:20260424T122808
CREATED:20190528T092804Z
LAST-MODIFIED:20230104T103247Z
UID:502-1674034200-1674037800@parkschloesschen-brandis.de
SUMMARY:Krabbelstübchen
DESCRIPTION:Heute findet von 9:30 bis 10:30 Uhr unser Krabbelstübchen statt.\nEingeladen sind Kinder von 0-3 und ihre Eltern.\nKommt vorbei\, trefft andere Kinder und Eltern und erlebt eine entspannte Zeit in\ngenütlicher Atmosphäre. \nDer Teilnehmerbeitrag beträgt 2€ / „Pärchen“.
URL:https://parkschloesschen-brandis.de/event/krabbelstuebchen/
LOCATION:Parkschlösschen Brandis\, Bahnhofstraße 22\, Brandis\, 04821\, Deutschland
CATEGORIES:Müttertreff
ORGANIZER;CN="FeG%20Brandis":MAILTO:info@feg-brandis.de
END:VEVENT
END:VCALENDAR